BEGIN:VCALENDAR
VERSION:2.0
PRODID:-//jEvents 2.0 for Joomla//EN
CALSCALE:GREGORIAN
METHOD:PUBLISH
BEGIN:VTIMEZONE
TZID:Europe/Vienna
END:VTIMEZONE
BEGIN:VEVENT
UID:d3295799e6466f7279c039f7992225a3
CATEGORIES:Luft-Gewehr, Luft-Pistole
SUMMARY:Landesmeisterschaft
DESCRIPTION;ENCODING=QUOTED-PRINTABLE:\n\nAusschreibung folgt\n
DTSTAMP:20260425T153028Z
DTSTART;TZID=Europe/Vienna;VALUE=DATE:20210305
DTEND;TZID=Europe/Vienna;VALUE=DATE:20210308
SEQUENCE:0
TRANSP:OPAQUE
END:VEVENT
END:VCALENDAR