BEGIN:VCALENDAR
VERSION:2.0
PRODID:-//jEvents 2.0 for Joomla//EN
CALSCALE:GREGORIAN
METHOD:PUBLISH
BEGIN:VTIMEZONE
TZID:Europe/Vienna
END:VTIMEZONE
BEGIN:VEVENT
UID:e667bbe0986795bea2078004643fffd5
CATEGORIES:Luft-Gewehr, Luft-Pistole
SUMMARY:Verschoben ÖSTM / ÖM
DESCRIPTION;ENCODING=QUOTED-PRINTABLE:\n\nTermin bis auf Weiteres verschoben, ev. neuer Austragungsort Innsbruck?
 \n\n\nAusschreibung folgt\n
DTSTAMP:20260425T134115Z
DTSTART;TZID=Europe/Vienna;VALUE=DATE:20210331
DTEND;TZID=Europe/Vienna;VALUE=DATE:20210405
SEQUENCE:0
TRANSP:OPAQUE
END:VEVENT
END:VCALENDAR