BEGIN:VCALENDAR
VERSION:2.0
PRODID:-//jEvents 2.0 for Joomla//EN
CALSCALE:GREGORIAN
METHOD:PUBLISH
BEGIN:VTIMEZONE
TZID:Europe/Vienna
END:VTIMEZONE
BEGIN:VEVENT
UID:2e8a82fc7ceee5c4c353a96314c17934
CATEGORIES:Luft-Gewehr
SUMMARY:Österr. Vereinsliga Super-Finale
DESCRIPTION;ENCODING=QUOTED-PRINTABLE:<p><a href="images/pdfs/2021/luft/oe_lglp_2021_vereinsliga_a.pdf" target="_
 blank">Ausschreibung</a></p>
DTSTAMP:20260425T164844Z
DTSTART;TZID=Europe/Vienna;VALUE=DATE:20210320
DTEND;TZID=Europe/Vienna;VALUE=DATE:20210321
SEQUENCE:0
TRANSP:OPAQUE
END:VEVENT
END:VCALENDAR