BEGIN:VCALENDAR
VERSION:2.0
PRODID:-//jEvents 2.0 for Joomla//EN
CALSCALE:GREGORIAN
METHOD:PUBLISH
BEGIN:VTIMEZONE
TZID:Europe/Vienna
END:VTIMEZONE
BEGIN:VEVENT
UID:a352fcdacca169fd29c9fbe54d20623b
CATEGORIES:Luft-Pistole
SUMMARY:Österr. Vereinsliga Super-Finale
DESCRIPTION;ENCODING=QUOTED-PRINTABLE:\n\nAusschreibung\n
DTSTAMP:20260425T153030Z
DTSTART;TZID=Europe/Vienna;VALUE=DATE:20210321
DTEND;TZID=Europe/Vienna;VALUE=DATE:20210322
SEQUENCE:0
TRANSP:OPAQUE
END:VEVENT
END:VCALENDAR