BEGIN:VCALENDAR
VERSION:2.0
PRODID:-//jEvents 2.0 for Joomla//EN
CALSCALE:GREGORIAN
METHOD:PUBLISH
BEGIN:VTIMEZONE
TZID:Europe/Vienna
END:VTIMEZONE
BEGIN:VEVENT
UID:c702fdc864c967e0336c5d5bdd341015
CATEGORIES:KK-Gewehr
SUMMARY:RFWK 1. Runde
DESCRIPTION;ENCODING=QUOTED-PRINTABLE:<p><a href="images/pdfs/2021/kk_21/knt_kk_rfwk21_a.pdf" target="_blank">Aus
 schreibung</a></p><p><a href="images/pdfs/2021/kk_21/knt_kk_limits_21.pdf" 
 target="_blank">Limits</a></p>
DTSTAMP:20260425T134447Z
DTSTART;TZID=Europe/Vienna;VALUE=DATE:20210426
DTEND;TZID=Europe/Vienna;VALUE=DATE:20210531
SEQUENCE:0
TRANSP:OPAQUE
END:VEVENT
END:VCALENDAR