BEGIN:VCALENDAR
VERSION:2.0
PRODID:-//jEvents 2.0 for Joomla//EN
CALSCALE:GREGORIAN
METHOD:PUBLISH
BEGIN:VTIMEZONE
TZID:Europe/Vienna
END:VTIMEZONE
BEGIN:VEVENT
UID:698888c58f24b3d0030717e9a06b786d
CATEGORIES:KK-Gewehr
SUMMARY:RFWK 2. Runde
DESCRIPTION;ENCODING=QUOTED-PRINTABLE:\n\nAusschreibung\n\n\nLimits\n
DTSTAMP:20260425T195022Z
DTSTART;TZID=Europe/Vienna;VALUE=DATE:20210531
DTEND;TZID=Europe/Vienna;VALUE=DATE:20210621
SEQUENCE:0
TRANSP:OPAQUE
END:VEVENT
END:VCALENDAR