BEGIN:VCALENDAR
VERSION:2.0
PRODID:-//jEvents 2.0 for Joomla//EN
CALSCALE:GREGORIAN
METHOD:PUBLISH
BEGIN:VTIMEZONE
TZID:Europe/Vienna
END:VTIMEZONE
BEGIN:VEVENT
UID:61a027ba12b07c2635e3d492cc265dad
CATEGORIES:KK-Gewehr
SUMMARY:RFWK 3. Runde
DESCRIPTION;ENCODING=QUOTED-PRINTABLE:<p><a href="images/pdfs/2021/kk_21/knt_kk_rfwk21_a.pdf" target="_blank">Aus
 schreibung</a></p><p><a href="images/pdfs/2021/kk_21/knt_kk_limits_21.pdf" 
 target="_blank">Limits</a></p>
DTSTAMP:20260426T015056Z
DTSTART;TZID=Europe/Vienna;VALUE=DATE:20210621
DTEND;TZID=Europe/Vienna;VALUE=DATE:20210719
SEQUENCE:0
TRANSP:OPAQUE
END:VEVENT
END:VCALENDAR