BEGIN:VCALENDAR
VERSION:2.0
PRODID:-//jEvents 2.0 for Joomla//EN
CALSCALE:GREGORIAN
METHOD:PUBLISH
BEGIN:VTIMEZONE
TZID:Europe/Vienna
END:VTIMEZONE
BEGIN:VEVENT
UID:45fbe27a88cacd2fb38380c8a857b7b7
CATEGORIES:Luft-Gewehr
SUMMARY:Kärntner Schüler- Jugendcup LG, 2.Rd.
LOCATION:SV Preitenegg
DESCRIPTION;ENCODING=QUOTED-PRINTABLE:\n\nAusschreibung\n
DTSTAMP:20260425T142402Z
DTSTART;TZID=Europe/Vienna;VALUE=DATE:20211120
DTEND;TZID=Europe/Vienna;VALUE=DATE:20211121
SEQUENCE:0
TRANSP:OPAQUE
END:VEVENT
END:VCALENDAR