BEGIN:VCALENDAR
VERSION:2.0
PRODID:-//jEvents 2.0 for Joomla//EN
CALSCALE:GREGORIAN
METHOD:PUBLISH
BEGIN:VTIMEZONE
TZID:Europe/Vienna
END:VTIMEZONE
BEGIN:VEVENT
UID:d5eae43feb0b27d254ef07a0f5a04027
CATEGORIES:Luft-Gewehr
SUMMARY:Kärntner Schüler- Jugendcup LG, 3.Rd.
LOCATION:SV Grafenstein
DESCRIPTION;ENCODING=QUOTED-PRINTABLE:<p><a href="images/pdfs/2022/luft_2122/knt_lg_schulercup_2122_a.pdf" target
 ="_blank">Ausschreibung</a></p>
DTSTAMP:20260425T134522Z
DTSTART;TZID=Europe/Vienna;VALUE=DATE:20211211
DTEND;TZID=Europe/Vienna;VALUE=DATE:20211212
SEQUENCE:0
TRANSP:OPAQUE
END:VEVENT
END:VCALENDAR