BEGIN:VCALENDAR
VERSION:2.0
PRODID:-//jEvents 2.0 for Joomla//EN
CALSCALE:GREGORIAN
METHOD:PUBLISH
BEGIN:VTIMEZONE
TZID:Europe/Vienna
END:VTIMEZONE
BEGIN:VEVENT
UID:1c57e1e878521afefea491ab60c11a1b
CATEGORIES:Luft-Gewehr
SUMMARY:Kärntner Schüler- Jugendcup LG, 4.Rd.
LOCATION:SV zu Klagenfurt
DESCRIPTION;ENCODING=QUOTED-PRINTABLE:\n\nAusschreibung\n
DTSTAMP:20260425T060256Z
DTSTART;TZID=Europe/Vienna;VALUE=DATE:20220122
DTEND;TZID=Europe/Vienna;VALUE=DATE:20220123
SEQUENCE:0
TRANSP:OPAQUE
END:VEVENT
END:VCALENDAR