BEGIN:VCALENDAR
VERSION:2.0
PRODID:-//jEvents 2.0 for Joomla//EN
CALSCALE:GREGORIAN
METHOD:PUBLISH
BEGIN:VTIMEZONE
TZID:Europe/Vienna
END:VTIMEZONE
BEGIN:VEVENT
UID:582bae21fa53c87ffe833f615cb06f7d
CATEGORIES:Luft-Gewehr
SUMMARY:Kärntner Schüler- Jugendcup LG, Finale
LOCATION:PSV Villach
DESCRIPTION;ENCODING=QUOTED-PRINTABLE:<p><a href="images/pdfs/2022/luft_2122/knt_lg_schulercup_2122_a.pdf" target
 ="_blank">Ausschreibung</a></p>
DTSTAMP:20260425T024421Z
DTSTART;TZID=Europe/Vienna;VALUE=DATE:20220212
DTEND;TZID=Europe/Vienna;VALUE=DATE:20220213
SEQUENCE:0
TRANSP:OPAQUE
END:VEVENT
END:VCALENDAR