BEGIN:VCALENDAR
VERSION:2.0
PRODID:-//jEvents 2.0 for Joomla//EN
CALSCALE:GREGORIAN
METHOD:PUBLISH
BEGIN:VTIMEZONE
TZID:Europe/Vienna
END:VTIMEZONE
BEGIN:VEVENT
UID:c2a8cec4cdc806dd546770251dd11e5e
CATEGORIES:Luft-Pistole
SUMMARY:Landesliga 1. Rd.
DESCRIPTION;ENCODING=QUOTED-PRINTABLE:<p><a href="images/pdfs/2022/luft_2122/knt_lp_ligen_2122_a.pdf" target="_bl
 ank">Ausscheibung</a></p><p><a href="images/pdfs/2022/luft_2122/k-regel-rwk
 -lp_02022020.pdf" target="_blank">Regelwerk</a></p><p>Termindetails: www.me
 isterschaft.klsv.at</p>
DTSTAMP:20260425T142718Z
DTSTART;TZID=Europe/Vienna;VALUE=DATE:20211105
DTEND;TZID=Europe/Vienna;VALUE=DATE:20211108
SEQUENCE:0
TRANSP:OPAQUE
END:VEVENT
END:VCALENDAR