BEGIN:VCALENDAR
VERSION:2.0
PRODID:-//jEvents 2.0 for Joomla//EN
CALSCALE:GREGORIAN
METHOD:PUBLISH
BEGIN:VTIMEZONE
TZID:Europe/Vienna
END:VTIMEZONE
BEGIN:VEVENT
UID:e1eec58e5130b9a5010052c35101d768
CATEGORIES:Luft-Pistole
SUMMARY:Landesliga 2. Rd.
DESCRIPTION;ENCODING=QUOTED-PRINTABLE:\n\nAusscheibung\n\n\nRegelwerk\n\n\nTermindetails: www.meisterschaft.klsv.
 at\n
DTSTAMP:20260425T142418Z
DTSTART;TZID=Europe/Vienna;VALUE=DATE:20211126
DTEND;TZID=Europe/Vienna;VALUE=DATE:20211129
SEQUENCE:0
TRANSP:OPAQUE
END:VEVENT
END:VCALENDAR