BEGIN:VCALENDAR
VERSION:2.0
PRODID:-//jEvents 2.0 for Joomla//EN
CALSCALE:GREGORIAN
METHOD:PUBLISH
BEGIN:VTIMEZONE
TZID:Europe/Vienna
END:VTIMEZONE
BEGIN:VEVENT
UID:60be3fc24acf9b5969128639f9fca09f
CATEGORIES:Luft-Pistole
SUMMARY:Landesliga 5. Rd.
DESCRIPTION;ENCODING=QUOTED-PRINTABLE:\n\nAusscheibung\n\n\nRegelwerk\n\n\nTermindetails: www.meisterschaft.klsv.
 at\n
DTSTAMP:20260425T024144Z
DTSTART;TZID=Europe/Vienna;VALUE=DATE:20220213
DTEND;TZID=Europe/Vienna;VALUE=DATE:20220214
SEQUENCE:0
TRANSP:OPAQUE
END:VEVENT
END:VCALENDAR