BEGIN:VCALENDAR
VERSION:2.0
PRODID:-//jEvents 2.0 for Joomla//EN
CALSCALE:GREGORIAN
METHOD:PUBLISH
BEGIN:VTIMEZONE
TZID:Europe/Vienna
END:VTIMEZONE
BEGIN:VEVENT
UID:bc64d477bf568ddfc802440134c936aa
CATEGORIES:Luft-Pistole
SUMMARY:Unterliga, RFWK 5. Rd.
DESCRIPTION;ENCODING=QUOTED-PRINTABLE:\n\nAusscheibung\n\n\nRegelwerk\n\n\nTermindetails: www.meisterschaft.klsv.
 at\n
DTSTAMP:20260425T005914Z
DTSTART;TZID=Europe/Vienna;VALUE=DATE:20220201
DTEND;TZID=Europe/Vienna;VALUE=DATE:20220301
SEQUENCE:0
TRANSP:OPAQUE
END:VEVENT
END:VCALENDAR