BEGIN:VCALENDAR
VERSION:2.0
PRODID:-//jEvents 2.0 for Joomla//EN
CALSCALE:GREGORIAN
METHOD:PUBLISH
BEGIN:VTIMEZONE
TZID:Europe/Vienna
END:VTIMEZONE
BEGIN:VEVENT
UID:d35075748b735bfc7d203db91dc65f24
CATEGORIES:Luft-Gewehr
SUMMARY:Unterliga, RFWK 4. Rd.
DESCRIPTION;ENCODING=QUOTED-PRINTABLE:<p><a href="images/pdfs/2022/luft_2122/knt_lg_ligen_2122_a.pdf" target="_bl
 ank">Ausscheibung</a></p><p><a href="images/pdfs/2022/luft_2122/k-regel-rwk
 -lg_02022020.pdf" target="_blank">Regelwerk</a></p><p>Termindetails: www.me
 isterschaft.klsv.at</p>
DTSTAMP:20260425T060352Z
DTSTART;TZID=Europe/Vienna;VALUE=DATE:20220101
DTEND;TZID=Europe/Vienna;VALUE=DATE:20220201
SEQUENCE:0
TRANSP:OPAQUE
END:VEVENT
END:VCALENDAR