BEGIN:VCALENDAR
VERSION:2.0
PRODID:-//jEvents 2.0 for Joomla//EN
CALSCALE:GREGORIAN
METHOD:PUBLISH
BEGIN:VTIMEZONE
TZID:Europe/Vienna
END:VTIMEZONE
BEGIN:VEVENT
UID:366ab02818d866f5a31809c559a1d9ba
CATEGORIES:Vorderlader-Gewehr, Vorderlader-Pistole
SUMMARY:Vorderlader LM 2022
LOCATION:HSV Villach in Latschach/Untergreuth
DESCRIPTION;ENCODING=QUOTED-PRINTABLE:<p><a href="pdfs/2022/VL_22/knt_vl_lm_22_a.pdf" target="_blank">Auschreibun
 g</a></p><p> </p>
DTSTAMP:20260424T220124Z
DTSTART;TZID=Europe/Vienna:20220514T100000
DTEND;TZID=Europe/Vienna:20220514T170000
SEQUENCE:0
TRANSP:OPAQUE
END:VEVENT
END:VCALENDAR