BEGIN:VCALENDAR
VERSION:2.0
PRODID:-//jEvents 2.0 for Joomla//EN
CALSCALE:GREGORIAN
METHOD:PUBLISH
BEGIN:VTIMEZONE
TZID:Europe/Vienna
END:VTIMEZONE
BEGIN:VEVENT
UID:48fefbaaf168fdc2a9922c77af0c93d7
CATEGORIES:Luft-Gewehr, Luft-Pistole
SUMMARY:ÖSTM / ÖM 2022
LOCATION:Weiz
DESCRIPTION;ENCODING=QUOTED-PRINTABLE:\n\nOrt: Weiz\n
DTSTAMP:20260424T173719Z
DTSTART;TZID=Europe/Vienna;VALUE=DATE:20220330
DTEND;TZID=Europe/Vienna;VALUE=DATE:20220404
SEQUENCE:0
TRANSP:OPAQUE
END:VEVENT
END:VCALENDAR