BEGIN:VCALENDAR
VERSION:2.0
PRODID:-//jEvents 2.0 for Joomla//EN
CALSCALE:GREGORIAN
METHOD:PUBLISH
BEGIN:VTIMEZONE
TZID:Europe/Vienna
END:VTIMEZONE
BEGIN:VEVENT
UID:10fb88c535a94e221f0c17e0f27fe203
CATEGORIES:KK-Gewehr
SUMMARY:RFWK 50m, 1. Rd.
DESCRIPTION;ENCODING=QUOTED-PRINTABLE:<p><a href="images/pdfs/2022/kk_22/knt_kk_rfwk22_a.pdf" target="_blank">Aus
 schreibung</a></p><p><a href="images/pdfs/2022/kk_22/knt_kk_limits22.pdf" t
 arget="_blank">Landeskader-Limits</a></p>
DTSTAMP:20260424T160402Z
DTSTART;TZID=Europe/Vienna;VALUE=DATE:20220424
DTEND;TZID=Europe/Vienna;VALUE=DATE:20220602
SEQUENCE:0
TRANSP:OPAQUE
END:VEVENT
END:VCALENDAR