BEGIN:VCALENDAR
VERSION:2.0
PRODID:-//jEvents 2.0 for Joomla//EN
CALSCALE:GREGORIAN
METHOD:PUBLISH
BEGIN:VTIMEZONE
TZID:Europe/Vienna
END:VTIMEZONE
BEGIN:VEVENT
UID:03533c22a41c1884c2f68221731e3786
CATEGORIES:KK-Gewehr
SUMMARY:RFWK 50m, 2. Rd.
DESCRIPTION;ENCODING=QUOTED-PRINTABLE:<p><a href="images/pdfs/2022/kk_22/knt_kk_rfwk22_a.pdf" target="_blank">Aus
 schreibung</a></p><p><a href="images/pdfs/2022/kk_22/knt_kk_limits22.pdf" t
 arget="_blank">Landeskader-Limits</a></p>
DTSTAMP:20260424T160244Z
DTSTART;TZID=Europe/Vienna;VALUE=DATE:20220602
DTEND;TZID=Europe/Vienna;VALUE=DATE:20220627
SEQUENCE:0
TRANSP:OPAQUE
END:VEVENT
END:VCALENDAR