BEGIN:VCALENDAR
VERSION:2.0
PRODID:-//jEvents 2.0 for Joomla//EN
CALSCALE:GREGORIAN
METHOD:PUBLISH
BEGIN:VTIMEZONE
TZID:Europe/Vienna
END:VTIMEZONE
BEGIN:VEVENT
UID:3d5204887f734edee7af09dc63fce274
CATEGORIES:KK-Gewehr
SUMMARY:RFWK 50m, 3. Rd.
DESCRIPTION;ENCODING=QUOTED-PRINTABLE:<p><a href="images/pdfs/2022/kk_22/knt_kk_rfwk22_a.pdf" target="_blank">Aus
 schreibung</a></p><p><a href="images/pdfs/2022/kk_22/knt_kk_limits22.pdf" t
 arget="_blank">Landeskader-Limits</a></p>
DTSTAMP:20260424T142658Z
DTSTART;TZID=Europe/Vienna;VALUE=DATE:20220627
DTEND;TZID=Europe/Vienna;VALUE=DATE:20220725
SEQUENCE:0
TRANSP:OPAQUE
END:VEVENT
END:VCALENDAR