BEGIN:VCALENDAR
VERSION:2.0
PRODID:-//jEvents 2.0 for Joomla//EN
CALSCALE:GREGORIAN
METHOD:PUBLISH
BEGIN:VTIMEZONE
TZID:Europe/Vienna
END:VTIMEZONE
BEGIN:VEVENT
UID:7a90dfe1606bad2b9948f0738c0e878c
CATEGORIES:KK-Gewehr
SUMMARY:RWS-Cup, 1.Rd.
DESCRIPTION;ENCODING=QUOTED-PRINTABLE:<p><a href="images/pdfs/2022/kk_22/oe_kk_rwscup22_a.pdf" target="_blank">Au
 sschreibung</a></p>
DTSTAMP:20260424T174422Z
DTSTART;TZID=Europe/Vienna;VALUE=DATE:20220424
DTEND;TZID=Europe/Vienna;VALUE=DATE:20220601
SEQUENCE:0
TRANSP:OPAQUE
END:VEVENT
END:VCALENDAR