BEGIN:VCALENDAR
VERSION:2.0
PRODID:-//jEvents 2.0 for Joomla//EN
CALSCALE:GREGORIAN
METHOD:PUBLISH
BEGIN:VTIMEZONE
TZID:Europe/Vienna
END:VTIMEZONE
BEGIN:VEVENT
UID:363d6ad206e1506ac55be76d5adcd3c9
CATEGORIES:KK-Gewehr
SUMMARY:RWS-Cup, 2.Rd.
DESCRIPTION;ENCODING=QUOTED-PRINTABLE:<p><a href="images/pdfs/2022/kk_22/oe_kk_rwscup22_a.pdf" target="_blank">Au
 sschreibung</a></p>
DTSTAMP:20260424T142800Z
DTSTART;TZID=Europe/Vienna;VALUE=DATE:20220601
DTEND;TZID=Europe/Vienna;VALUE=DATE:20220701
SEQUENCE:0
TRANSP:OPAQUE
END:VEVENT
END:VCALENDAR