BEGIN:VCALENDAR
VERSION:2.0
PRODID:-//jEvents 2.0 for Joomla//EN
CALSCALE:GREGORIAN
METHOD:PUBLISH
BEGIN:VTIMEZONE
TZID:Europe/Vienna
END:VTIMEZONE
BEGIN:VEVENT
UID:3ba7210bf714ee9da0feecc212cd4405
CATEGORIES:KK-Gewehr
SUMMARY:RWS-Cup, 3.Rd.
DESCRIPTION;ENCODING=QUOTED-PRINTABLE:<p><a href="images/pdfs/2022/kk_22/oe_kk_rwscup22_a.pdf" target="_blank">Au
 sschreibung</a></p>
DTSTAMP:20260424T160246Z
DTSTART;TZID=Europe/Vienna;VALUE=DATE:20220701
DTEND;TZID=Europe/Vienna;VALUE=DATE:20220721
SEQUENCE:0
TRANSP:OPAQUE
END:VEVENT
END:VCALENDAR