BEGIN:VCALENDAR
VERSION:2.0
PRODID:-//jEvents 2.0 for Joomla//EN
CALSCALE:GREGORIAN
METHOD:PUBLISH
BEGIN:VTIMEZONE
TZID:Europe/Vienna
END:VTIMEZONE
BEGIN:VEVENT
UID:fc7366ad2cd4e0d3970d254a721cf6cc
CATEGORIES:KK-Gewehr
SUMMARY:RWS-Cup, Finale
LOCATION:Innsbruck
DESCRIPTION;ENCODING=QUOTED-PRINTABLE:\n\nAusschreibung\n
DTSTAMP:20260425T024144Z
DTSTART;TZID=Europe/Vienna;VALUE=DATE:20220806
DTEND;TZID=Europe/Vienna;VALUE=DATE:20220808
SEQUENCE:0
TRANSP:OPAQUE
END:VEVENT
END:VCALENDAR