BEGIN:VCALENDAR
VERSION:2.0
PRODID:-//jEvents 2.0 for Joomla//EN
CALSCALE:GREGORIAN
METHOD:PUBLISH
BEGIN:VTIMEZONE
TZID:Europe/Vienna
END:VTIMEZONE
BEGIN:VEVENT
UID:c605c856b9e06fa96b07abb096dff646
CATEGORIES:Luft-Gewehr, KK-Gewehr, Luft-Pistole, Feuer-Pistole
SUMMARY:Landes-Kaderqualifikation Senioren 3
LOCATION:LH St.Veit/Glan
DESCRIPTION;ENCODING=QUOTED-PRINTABLE:<p><a href="images/pdfs/2022/kk_22/knt_kk_limits22.pdf" target="_blank">Lan
 deskader-Limits</a></p>
DTSTAMP:20260424T160238Z
DTSTART;TZID=Europe/Vienna;VALUE=DATE:20220601
DTEND;TZID=Europe/Vienna;VALUE=DATE:20220602
SEQUENCE:0
TRANSP:OPAQUE
END:VEVENT
END:VCALENDAR