BEGIN:VCALENDAR
VERSION:2.0
PRODID:-//jEvents 2.0 for Joomla//EN
CALSCALE:GREGORIAN
METHOD:PUBLISH
BEGIN:VTIMEZONE
TZID:Europe/Vienna
END:VTIMEZONE
BEGIN:VEVENT
UID:1b360f9da0c86b401833c26741112546
CATEGORIES:Luft-Gewehr, KK-Gewehr, Luft-Pistole, Feuer-Pistole
SUMMARY:ÖM Senioren 3
LOCATION:Linz, OÖ
DESCRIPTION;ENCODING=QUOTED-PRINTABLE:\n\nLandes-Kaderlimits\n
DTSTAMP:20260424T155705Z
DTSTART;TZID=Europe/Vienna;VALUE=DATE:20220624
DTEND;TZID=Europe/Vienna;VALUE=DATE:20220627
SEQUENCE:0
TRANSP:OPAQUE
END:VEVENT
END:VCALENDAR