BEGIN:VCALENDAR
VERSION:2.0
PRODID:-//jEvents 2.0 for Joomla//EN
CALSCALE:GREGORIAN
METHOD:PUBLISH
BEGIN:VTIMEZONE
TZID:Europe/Vienna
END:VTIMEZONE
BEGIN:VEVENT
UID:7811df4d78a8995e01bdbcb383574b8d
CATEGORIES:KK-Gewehr
SUMMARY:Landes-Kaderqualifikation ÖSTM/ÖM 50m
LOCATION:Spittal/Fratres - LH St.Veit/Glan
DESCRIPTION;ENCODING=QUOTED-PRINTABLE:\n\nLandes-Kaderlimits\n\n\nAusschreibung - LH St.Veit/Glan TERMINVERSCHIEB
 UNG!!! => Samstag 2.7.2022 \n\n\n2.7.2022 - Spittal/Fratres\n\n\n2.7.2022 -
  LH St.Veit/Glan TERMINVERSCHIEBUNG!!! => Samstag 2.7.2022\n
DTSTAMP:20260424T155705Z
DTSTART;TZID=Europe/Vienna;VALUE=DATE:20220702
DTEND;TZID=Europe/Vienna;VALUE=DATE:20220703
SEQUENCE:0
TRANSP:OPAQUE
END:VEVENT
END:VCALENDAR