BEGIN:VCALENDAR
VERSION:2.0
PRODID:-//jEvents 2.0 for Joomla//EN
CALSCALE:GREGORIAN
METHOD:PUBLISH
BEGIN:VTIMEZONE
TZID:Europe/Vienna
END:VTIMEZONE
BEGIN:VEVENT
UID:8fd45406835c9ed87272d3fe22de50e5
CATEGORIES:KK-Gewehr
SUMMARY:Jugend Schulschluss Grand Prix 2022
LOCATION:LH St.Veit/Glan
DESCRIPTION;ENCODING=QUOTED-PRINTABLE:\n\nAusschreibung\n
DTSTAMP:20260424T155704Z
DTSTART;TZID=Europe/Vienna;VALUE=DATE:20220703
DTEND;TZID=Europe/Vienna;VALUE=DATE:20220704
SEQUENCE:0
TRANSP:OPAQUE
END:VEVENT
END:VCALENDAR