BEGIN:VCALENDAR
VERSION:2.0
PRODID:-//jEvents 2.0 for Joomla//EN
CALSCALE:GREGORIAN
METHOD:PUBLISH
BEGIN:VTIMEZONE
TZID:Europe/Vienna
END:VTIMEZONE
BEGIN:VEVENT
UID:143a51731ba9e15433a4adff75d85c3f
CATEGORIES:KK-Gewehr
SUMMARY:LM 100m
LOCATION:Pakein/Grafenstein
DESCRIPTION;ENCODING=QUOTED-PRINTABLE:\n\nAusschreibung\n
DTSTAMP:20260425T005911Z
DTSTART;TZID=Europe/Vienna;VALUE=DATE:20220716
DTEND;TZID=Europe/Vienna;VALUE=DATE:20220717
SEQUENCE:0
TRANSP:OPAQUE
END:VEVENT
END:VCALENDAR