BEGIN:VCALENDAR
VERSION:2.0
PRODID:-//jEvents 2.0 for Joomla//EN
CALSCALE:GREGORIAN
METHOD:PUBLISH
BEGIN:VTIMEZONE
TZID:Europe/Vienna
END:VTIMEZONE
BEGIN:VEVENT
UID:115939d62e33c0673a57d7fea58c3db0
CATEGORIES:KK-Gewehr
SUMMARY:LM 50m
LOCATION:LH St.Veit/Glan
DESCRIPTION;ENCODING=QUOTED-PRINTABLE:\n\nLandes-Kaderlimits\n\n\nAusschreibung\n\n\n30.7.2022 - 40-Auflage, 30 H
 obby, Senioren 3\n\n\n31.7.2022 - Jugend, Allgemeine Klassen, Stellungsbewe
 rbe\n
DTSTAMP:20260425T005915Z
DTSTART;TZID=Europe/Vienna;VALUE=DATE:20220730
DTEND;TZID=Europe/Vienna;VALUE=DATE:20220801
SEQUENCE:0
TRANSP:OPAQUE
END:VEVENT
END:VCALENDAR