BEGIN:VCALENDAR
VERSION:2.0
PRODID:-//jEvents 2.0 for Joomla//EN
CALSCALE:GREGORIAN
METHOD:PUBLISH
BEGIN:VTIMEZONE
TZID:Europe/Vienna
END:VTIMEZONE
BEGIN:VEVENT
UID:ad78e31245a51357a3d35dc1fc88320e
CATEGORIES:KK-Gewehr
SUMMARY:Landes-Kaderqualifikation ÖSTM/ÖM 50m
LOCATION:LH St.Veit/Glan
DESCRIPTION;ENCODING=QUOTED-PRINTABLE:<p><a href="images/pdfs/2022/kk_22/knt_kk_limits22.pdf" target="_blank">Lan
 des-Kaderlimits</a></p>
DTSTAMP:20260425T024513Z
DTSTART;TZID=Europe/Vienna;VALUE=DATE:20220807
DTEND;TZID=Europe/Vienna;VALUE=DATE:20220808
SEQUENCE:0
TRANSP:OPAQUE
END:VEVENT
END:VCALENDAR