BEGIN:VCALENDAR
VERSION:2.0
PRODID:-//jEvents 2.0 for Joomla//EN
CALSCALE:GREGORIAN
METHOD:PUBLISH
BEGIN:VTIMEZONE
TZID:Europe/Vienna
END:VTIMEZONE
BEGIN:VEVENT
UID:f0ae203feff9eb4c0990e8ce97be7e5b
CATEGORIES:KK-Gewehr
SUMMARY:ÖSTM/ÖM 50m, 100m
LOCATION:Innsbruck
DESCRIPTION;ENCODING=QUOTED-PRINTABLE:\n\nAusschreibung folgt\n
DTSTAMP:20260425T024145Z
DTSTART;TZID=Europe/Vienna;VALUE=DATE:20220824
DTEND;TZID=Europe/Vienna;VALUE=DATE:20220829
SEQUENCE:0
TRANSP:OPAQUE
END:VEVENT
END:VCALENDAR