BEGIN:VCALENDAR
VERSION:2.0
PRODID:-//jEvents 2.0 for Joomla//EN
CALSCALE:GREGORIAN
METHOD:PUBLISH
BEGIN:VTIMEZONE
TZID:Europe/Vienna
END:VTIMEZONE
BEGIN:VEVENT
UID:eba41c93376eb67d7ddf393ac0181057
CATEGORIES:KK-Gewehr
SUMMARY:BezM Klagenfurt 2022
LOCATION:RSV Ferlach
DESCRIPTION;ENCODING=QUOTED-PRINTABLE:<p><a href="images/pdfs/2022/kk_22/knt_kk_bezm_kl_2022_a.pdf" target="_blan
 k">Ausschreibung</a></p>
DTSTAMP:20260424T160402Z
DTSTART;TZID=Europe/Vienna;VALUE=DATE:20220702
DTEND;TZID=Europe/Vienna;VALUE=DATE:20220703
SEQUENCE:0
TRANSP:OPAQUE
END:VEVENT
END:VCALENDAR