BEGIN:VCALENDAR
VERSION:2.0
PRODID:-//jEvents 2.0 for Joomla//EN
CALSCALE:GREGORIAN
METHOD:PUBLISH
BEGIN:VTIMEZONE
TZID:Europe/Vienna
END:VTIMEZONE
BEGIN:VEVENT
UID:99f9898a83179af67b5be18c84bc8f70
CATEGORIES:Luft-Gewehr, Luft-Pistole
SUMMARY:Udine - Geburtstagschießen
LOCATION:Udine
DESCRIPTION;ENCODING=QUOTED-PRINTABLE:<p><a href="images/pdfs/2023/luft_22_23/int_lg_lp_udine_22_a.pdf" target="_
 blank">Ausschreibung</a></p>
DTSTAMP:20260424T143251Z
DTSTART;TZID=Europe/Vienna;VALUE=DATE:20221014
DTEND;TZID=Europe/Vienna;VALUE=DATE:20221121
SEQUENCE:0
TRANSP:OPAQUE
END:VEVENT
END:VCALENDAR