BEGIN:VCALENDAR
VERSION:2.0
PRODID:-//jEvents 2.0 for Joomla//EN
CALSCALE:GREGORIAN
METHOD:PUBLISH
BEGIN:VTIMEZONE
TZID:Europe/Vienna
END:VTIMEZONE
BEGIN:VEVENT
UID:8db2251aeb8b47100a38b42b114b605d
CATEGORIES:Luft-Gewehr
SUMMARY:Knt. Schüler- Jugendcup 22/23, 1. Rd.
LOCATION:SV St.Veit/Glan
DESCRIPTION;ENCODING=QUOTED-PRINTABLE:\n\nAussschreibung\n\n\nÖM/ÖSTM Limits\n
DTSTAMP:20260424T155704Z
DTSTART;TZID=Europe/Vienna;VALUE=DATE:20221015
DTEND;TZID=Europe/Vienna;VALUE=DATE:20221016
SEQUENCE:0
TRANSP:OPAQUE
END:VEVENT
END:VCALENDAR