BEGIN:VCALENDAR
VERSION:2.0
PRODID:-//jEvents 2.0 for Joomla//EN
CALSCALE:GREGORIAN
METHOD:PUBLISH
BEGIN:VTIMEZONE
TZID:Europe/Vienna
END:VTIMEZONE
BEGIN:VEVENT
UID:188891f711ce192c8fc11adc770d1c27
CATEGORIES:Luft-Gewehr
SUMMARY:Knt. Schüler- Jugendcup 22/23, 2. Rd.
LOCATION:SV Preitenegg
DESCRIPTION;ENCODING=QUOTED-PRINTABLE:<p><a href="images/pdfs/2023/luft_22_23/knt_lg_jugcup_2223_a.pdf" target="_
 blank">Aussschreibung</a></p><p><a href="images/pdfs/2023/luft_22_23/knt_lg
 _quali_rl_2223.pdf" target="_blank">ÖM/ÖSTM Limits</a></p>
DTSTAMP:20260424T233030Z
DTSTART;TZID=Europe/Vienna;VALUE=DATE:20221119
DTEND;TZID=Europe/Vienna;VALUE=DATE:20221120
SEQUENCE:0
TRANSP:OPAQUE
END:VEVENT
END:VCALENDAR