BEGIN:VCALENDAR
VERSION:2.0
PRODID:-//jEvents 2.0 for Joomla//EN
CALSCALE:GREGORIAN
METHOD:PUBLISH
BEGIN:VTIMEZONE
TZID:Europe/Vienna
END:VTIMEZONE
BEGIN:VEVENT
UID:7a0e6cc3c1f98f847561b0f6e0af0477
CATEGORIES:Luft-Gewehr
SUMMARY:Knt. Schüler- Jugendcup 22/23, 3. Rd.
LOCATION:SV Grafenstein
DESCRIPTION;ENCODING=QUOTED-PRINTABLE:<p><a href="images/pdfs/2023/luft_22_23/knt_lg_jugcup_2223_a.pdf" target="_
 blank">Aussschreibung</a></p><p><a href="images/pdfs/2023/luft_22_23/knt_lg
 _quali_rl_2223.pdf" target="_blank">ÖM/ÖSTM Limits</a></p>
DTSTAMP:20260424T220806Z
DTSTART;TZID=Europe/Vienna;VALUE=DATE:20221203
DTEND;TZID=Europe/Vienna;VALUE=DATE:20221204
SEQUENCE:0
TRANSP:OPAQUE
END:VEVENT
END:VCALENDAR