BEGIN:VCALENDAR
VERSION:2.0
PRODID:-//jEvents 2.0 for Joomla//EN
CALSCALE:GREGORIAN
METHOD:PUBLISH
BEGIN:VTIMEZONE
TZID:Europe/Vienna
END:VTIMEZONE
BEGIN:VEVENT
UID:024a7442f09d474f022da0bf489082d0
CATEGORIES:Luft-Gewehr
SUMMARY:Knt. Schüler- Jugendcup 22/23, 4. Rd.
LOCATION:SV zu Klagenfurt / RSV Ferlach
DESCRIPTION;ENCODING=QUOTED-PRINTABLE:\n\nAussschreibung\n\n\nÖM/ÖSTM Limits\n
DTSTAMP:20260424T173719Z
DTSTART;TZID=Europe/Vienna;VALUE=DATE:20230121
DTEND;TZID=Europe/Vienna;VALUE=DATE:20230122
SEQUENCE:0
TRANSP:OPAQUE
END:VEVENT
END:VCALENDAR