BEGIN:VCALENDAR
VERSION:2.0
PRODID:-//jEvents 2.0 for Joomla//EN
CALSCALE:GREGORIAN
METHOD:PUBLISH
BEGIN:VTIMEZONE
TZID:Europe/Vienna
END:VTIMEZONE
BEGIN:VEVENT
UID:466f9da401cf3309a3c711ef0aa0891f
CATEGORIES:Luft-Gewehr
SUMMARY:Knt. Schüler- Jugendcup 22/23, Finale
LOCATION:PSV Villach
DESCRIPTION;ENCODING=QUOTED-PRINTABLE:\n\nAussschreibung\n\n\nÖM/ÖSTM Limits\n
DTSTAMP:20260425T055317Z
DTSTART;TZID=Europe/Vienna;VALUE=DATE:20230211
DTEND;TZID=Europe/Vienna;VALUE=DATE:20230212
SEQUENCE:0
TRANSP:OPAQUE
END:VEVENT
END:VCALENDAR