BEGIN:VCALENDAR
VERSION:2.0
PRODID:-//jEvents 2.0 for Joomla//EN
CALSCALE:GREGORIAN
METHOD:PUBLISH
BEGIN:VTIMEZONE
TZID:Europe/Vienna
END:VTIMEZONE
BEGIN:VEVENT
UID:bf834d53c14afbb924145a4e44cffe63
CATEGORIES:Luft-Gewehr
SUMMARY:Rundenfernwettkampf, 1. Rd.
DESCRIPTION;ENCODING=QUOTED-PRINTABLE:\n\nAusschreibung\n\n\nÖM/ÖSTM Limits\n
DTSTAMP:20260424T142626Z
DTSTART;TZID=Europe/Vienna;VALUE=DATE:20221004
DTEND;TZID=Europe/Vienna;VALUE=DATE:20221101
SEQUENCE:0
TRANSP:OPAQUE
END:VEVENT
END:VCALENDAR