BEGIN:VCALENDAR
VERSION:2.0
PRODID:-//jEvents 2.0 for Joomla//EN
CALSCALE:GREGORIAN
METHOD:PUBLISH
BEGIN:VTIMEZONE
TZID:Europe/Vienna
END:VTIMEZONE
BEGIN:VEVENT
UID:5a828565dc0aa18cba2c160e39d3e195
CATEGORIES:Luft-Gewehr
SUMMARY:Rundenfernwettkampf, 2. Rd.
DESCRIPTION;ENCODING=QUOTED-PRINTABLE:<p><a href="images/pdfs/2023/luft_22_23/knt_lg_runden_2223_a.pdf" target="_
 blank">Ausschreibung</a></p><p><a href="images/pdfs/2023/luft_22_23/knt_lg_
 quali_rl_2223.pdf" target="_blank">ÖM/ÖSTM Limits</a></p>
DTSTAMP:20260424T144852Z
DTSTART;TZID=Europe/Vienna;VALUE=DATE:20221101
DTEND;TZID=Europe/Vienna;VALUE=DATE:20221201
SEQUENCE:0
TRANSP:OPAQUE
END:VEVENT
END:VCALENDAR