BEGIN:VCALENDAR
VERSION:2.0
PRODID:-//jEvents 2.0 for Joomla//EN
CALSCALE:GREGORIAN
METHOD:PUBLISH
BEGIN:VTIMEZONE
TZID:Europe/Vienna
END:VTIMEZONE
BEGIN:VEVENT
UID:f8aaabbe247cafff5893ec7e2c4680ec
CATEGORIES:Luft-Gewehr
SUMMARY:Rundenfernwettkampf, 3. Rd.
DESCRIPTION;ENCODING=QUOTED-PRINTABLE:\n\nAusschreibung\n\n\nÖM/ÖSTM Limits\n
DTSTAMP:20260424T191323Z
DTSTART;TZID=Europe/Vienna;VALUE=DATE:20221201
DTEND;TZID=Europe/Vienna;VALUE=DATE:20230101
SEQUENCE:0
TRANSP:OPAQUE
END:VEVENT
END:VCALENDAR