BEGIN:VCALENDAR
VERSION:2.0
PRODID:-//jEvents 2.0 for Joomla//EN
CALSCALE:GREGORIAN
METHOD:PUBLISH
BEGIN:VTIMEZONE
TZID:Europe/Vienna
END:VTIMEZONE
BEGIN:VEVENT
UID:8bd48c5302e9e48e327851c3af6d2ea4
CATEGORIES:Luft-Gewehr
SUMMARY:Landesliga, 1.+2. Rd.
LOCATION:PSV Villach
DESCRIPTION;ENCODING=QUOTED-PRINTABLE:<p><a href="images/pdfs/2023/luft_22_23/knt_lg_runden_2223_a.pdf" target="_
 blank">Ausschreibung</a></p><p><a href="images/pdfs/2023/luft_22_23/knt_lg_
 ll_begeg_2223.pdf" target="_blank">Begegnungen</a></p><p><a href="images/pd
 fs/2023/luft_22_23/knt_lg_quali_rl_2223.pdf" target="_blank">ÖM/ÖSTM Limits
 </a></p>
DTSTAMP:20260425T024310Z
DTSTART;TZID=Europe/Vienna;VALUE=DATE:20221126
DTEND;TZID=Europe/Vienna;VALUE=DATE:20221127
SEQUENCE:0
TRANSP:OPAQUE
END:VEVENT
END:VCALENDAR