BEGIN:VCALENDAR
VERSION:2.0
PRODID:-//jEvents 2.0 for Joomla//EN
CALSCALE:GREGORIAN
METHOD:PUBLISH
BEGIN:VTIMEZONE
TZID:Europe/Vienna
END:VTIMEZONE
BEGIN:VEVENT
UID:84be30019d36570bc457b20439aa26d0
CATEGORIES:Luft-Gewehr
SUMMARY:Landesliga, 3.+4. Rd.
LOCATION:PSV Villach
DESCRIPTION;ENCODING=QUOTED-PRINTABLE:\n\nAusschreibung\n\n\nBegegnungen\n\n\nÖM/ÖSTM Limits\n
DTSTAMP:20260424T173721Z
DTSTART;TZID=Europe/Vienna;VALUE=DATE:20230114
DTEND;TZID=Europe/Vienna;VALUE=DATE:20230115
SEQUENCE:0
TRANSP:OPAQUE
END:VEVENT
END:VCALENDAR