BEGIN:VCALENDAR
VERSION:2.0
PRODID:-//jEvents 2.0 for Joomla//EN
CALSCALE:GREGORIAN
METHOD:PUBLISH
BEGIN:VTIMEZONE
TZID:Europe/Vienna
END:VTIMEZONE
BEGIN:VEVENT
UID:3730e20c0ccf0584b02c226e936fb426
CATEGORIES:Luft-Gewehr
SUMMARY:Landesliga, 5.+6. Rd.
LOCATION:PSV Villach
DESCRIPTION;ENCODING=QUOTED-PRINTABLE:<p><a href="images/pdfs/2023/luft_22_23/knt_lg_runden_2223_a.pdf" target="_
 blank">Ausschreibung</a></p><p><a href="images/pdfs/2023/luft_22_23/knt_lg_
 ll_begeg_2223.pdf" target="_blank">Begegnungen</a></p><p><a href="images/pd
 fs/2023/luft_22_23/knt_lg_quali_rl_2223.pdf" target="_blank">ÖM/ÖSTM Limits
 </a></p>
DTSTAMP:20260424T160238Z
DTSTART;TZID=Europe/Vienna;VALUE=DATE:20230204
DTEND;TZID=Europe/Vienna;VALUE=DATE:20230205
SEQUENCE:0
TRANSP:OPAQUE
END:VEVENT
END:VCALENDAR