BEGIN:VCALENDAR
VERSION:2.0
PRODID:-//jEvents 2.0 for Joomla//EN
CALSCALE:GREGORIAN
METHOD:PUBLISH
BEGIN:VTIMEZONE
TZID:Europe/Vienna
END:VTIMEZONE
BEGIN:VEVENT
UID:ffa45179b6357af8abfd460ad49e1ef2
CATEGORIES:Luft-Pistole
SUMMARY:Rundenfernwettkampf, 4. Rd.
DESCRIPTION;ENCODING=QUOTED-PRINTABLE:\n\nAusschreibung\n\n\nÖM/ÖSTM Limits\n
DTSTAMP:20260424T155704Z
DTSTART;TZID=Europe/Vienna;VALUE=DATE:20230101
DTEND;TZID=Europe/Vienna;VALUE=DATE:20230201
SEQUENCE:0
TRANSP:OPAQUE
END:VEVENT
END:VCALENDAR