BEGIN:VCALENDAR
VERSION:2.0
PRODID:-//jEvents 2.0 for Joomla//EN
CALSCALE:GREGORIAN
METHOD:PUBLISH
BEGIN:VTIMEZONE
TZID:Europe/Vienna
END:VTIMEZONE
BEGIN:VEVENT
UID:2303cff91eb8d9d70b4479b71c81f7d2
CATEGORIES:Luft-Pistole
SUMMARY:Regionalliga, 1. Rd.
DESCRIPTION;ENCODING=QUOTED-PRINTABLE:\n\nAusschreibung\n\n\nÖM/ÖSTM Limits\n
DTSTAMP:20260424T155704Z
DTSTART;TZID=Europe/Vienna;VALUE=DATE:20221028
DTEND;TZID=Europe/Vienna;VALUE=DATE:20221029
SEQUENCE:0
TRANSP:OPAQUE
END:VEVENT
END:VCALENDAR