BEGIN:VCALENDAR
VERSION:2.0
PRODID:-//jEvents 2.0 for Joomla//EN
CALSCALE:GREGORIAN
METHOD:PUBLISH
BEGIN:VTIMEZONE
TZID:Europe/Vienna
END:VTIMEZONE
BEGIN:VEVENT
UID:a875cacefd89e1cc9f7d6fe35793b614
CATEGORIES:Luft-Pistole
SUMMARY:Regionalliga, 2. Rd.
DESCRIPTION;ENCODING=QUOTED-PRINTABLE:\n\nAusschreibung\n\n\nÖM/ÖSTM Limits\n
DTSTAMP:20260424T232853Z
DTSTART;TZID=Europe/Vienna;VALUE=DATE:20221125
DTEND;TZID=Europe/Vienna;VALUE=DATE:20221126
SEQUENCE:0
TRANSP:OPAQUE
END:VEVENT
END:VCALENDAR