BEGIN:VCALENDAR
VERSION:2.0
PRODID:-//jEvents 2.0 for Joomla//EN
CALSCALE:GREGORIAN
METHOD:PUBLISH
BEGIN:VTIMEZONE
TZID:Europe/Vienna
END:VTIMEZONE
BEGIN:VEVENT
UID:238b3503d80368d7ce669cbfdc2f2b8a
CATEGORIES:Luft-Pistole
SUMMARY:Regionalliga, 3. Rd.
DESCRIPTION;ENCODING=QUOTED-PRINTABLE:<p><a href="images/pdfs/2023/luft_22_23/knt_lp_runden_2223_a.pdf" target="_
 blank">Ausschreibung</a></p><p><a href="images/pdfs/2023/luft_22_23/knt_lp_
 quali_rl_2223.pdf" target="_blank">ÖM/ÖSTM Limits</a></p>
DTSTAMP:20260424T220806Z
DTSTART;TZID=Europe/Vienna;VALUE=DATE:20221209
DTEND;TZID=Europe/Vienna;VALUE=DATE:20221210
SEQUENCE:0
TRANSP:OPAQUE
END:VEVENT
END:VCALENDAR